BEGIN:VCALENDAR
VERSION:2.0
PRODID:-//gillettevac.com//NONSGML kigkonsult.se iCalcreator 2.30.10//
CALSCALE:GREGORIAN
METHOD:PUBLISH
UID:04cf1bcc-e59c-41df-b3eb-35317ab32841
X-WR-CALDESC:
X-WR-RELCALID:5663be6d208d3d593f6ba6f4e1c44ead
X-WR-TIMEZONE:America/Chicago
BEGIN:VTIMEZONE
TZID:America/Chicago
BEGIN:STANDARD
TZNAME:CST
DTSTART:20261101T020000
TZOFFSETFROM:-0500
TZOFFSETTO:-0600
RDATE:20271107T020000
END:STANDARD
BEGIN:DAYLIGHT
TZNAME:CDT
DTSTART:20260308T020000
TZOFFSETFROM:-0600
TZOFFSETTO:-0500
RDATE:20270314T020000
RDATE:20280312T020000
END:DAYLIGHT
END:VTIMEZONE
BEGIN:VEVENT
UID:e867cda6-034f-49aa-8149-1053c46d682d
DTSTAMP:20260424T002826Z
DESCRIPTION:
DTSTART;TZID=America/Chicago:20270117T000000
DTEND;TZID=America/Chicago:20270117T235900
LOCATION:
SUMMARY:Justin L Birthday!!
END:VEVENT
END:VCALENDAR
